BEGIN:VCALENDAR
VERSION:2.0
PRODID:-//Caydence Records &amp; Coffee - ECPv6.15.17//NONSGML v1.0//EN
CALSCALE:GREGORIAN
METHOD:PUBLISH
X-WR-CALNAME:Caydence Records &amp; Coffee
X-ORIGINAL-URL:https://caydencemn.com
X-WR-CALDESC:Events for Caydence Records &amp; Coffee
REFRESH-INTERVAL;VALUE=DURATION:PT1H
X-Robots-Tag:noindex
X-PUBLISHED-TTL:PT1H
BEGIN:VTIMEZONE
TZID:America/Chicago
BEGIN:DAYLIGHT
TZOFFSETFROM:-0600
TZOFFSETTO:-0500
TZNAME:CDT
DTSTART:20190310T080000
END:DAYLIGHT
BEGIN:STANDARD
TZOFFSETFROM:-0500
TZOFFSETTO:-0600
TZNAME:CST
DTSTART:20191103T070000
END:STANDARD
BEGIN:DAYLIGHT
TZOFFSETFROM:-0600
TZOFFSETTO:-0500
TZNAME:CDT
DTSTART:20200308T080000
END:DAYLIGHT
BEGIN:STANDARD
TZOFFSETFROM:-0500
TZOFFSETTO:-0600
TZNAME:CST
DTSTART:20201101T070000
END:STANDARD
BEGIN:DAYLIGHT
TZOFFSETFROM:-0600
TZOFFSETTO:-0500
TZNAME:CDT
DTSTART:20210314T080000
END:DAYLIGHT
BEGIN:STANDARD
TZOFFSETFROM:-0500
TZOFFSETTO:-0600
TZNAME:CST
DTSTART:20211107T070000
END:STANDARD
BEGIN:DAYLIGHT
TZOFFSETFROM:-0600
TZOFFSETTO:-0500
TZNAME:CDT
DTSTART:20220313T080000
END:DAYLIGHT
BEGIN:STANDARD
TZOFFSETFROM:-0500
TZOFFSETTO:-0600
TZNAME:CST
DTSTART:20221106T070000
END:STANDARD
BEGIN:DAYLIGHT
TZOFFSETFROM:-0600
TZOFFSETTO:-0500
TZNAME:CDT
DTSTART:20230312T080000
END:DAYLIGHT
BEGIN:STANDARD
TZOFFSETFROM:-0500
TZOFFSETTO:-0600
TZNAME:CST
DTSTART:20231105T070000
END:STANDARD
END:VTIMEZONE
BEGIN:VEVENT
DTSTART;TZID=America/Chicago:20220717T130000
DTEND;TZID=America/Chicago:20220717T140000
DTSTAMP:20260425T205620
CREATED:20220618T024621Z
LAST-MODIFIED:20240617T065523Z
UID:1688-1658062800-1658066400@caydencemn.com
SUMMARY:Erik Brandt (of the Urban Hillbilly Quartet) and AJ Scheiber (of Wilkinson James) Patio
DESCRIPTION:
URL:https://caydencemn.com/event/erik-brandt-of-the-urban-hillbilly-quartet-and-aj-scheiber-of-wilkinson-james-patio/
LOCATION:Caydence Records & Coffee\, 900 Payne Avenue\, St Paul\, MN\, 55130\, United States
CATEGORIES:Performance
END:VEVENT
BEGIN:VEVENT
DTSTART;TZID=America/Chicago:20220715T183000
DTEND;TZID=America/Chicago:20220715T220000
DTSTAMP:20260425T205620
CREATED:20220618T024524Z
LAST-MODIFIED:20240617T065523Z
UID:1686-1657909800-1657922400@caydencemn.com
SUMMARY:Aiden Intro\, Truman beck Kidskifree\, Ava Levy\, Lovemonday\, Ivers
DESCRIPTION:
URL:https://caydencemn.com/event/aiden-intro-truman-beck-kidskifree-ava-levy-lovemonday-ivers/
LOCATION:Caydence Records & Coffee\, 900 Payne Avenue\, St Paul\, MN\, 55130\, United States
CATEGORIES:Performance
END:VEVENT
BEGIN:VEVENT
DTSTART;TZID=America/Chicago:20220708T183000
DTEND;TZID=America/Chicago:20220708T220000
DTSTAMP:20260425T205620
CREATED:20220618T024313Z
LAST-MODIFIED:20240617T065523Z
UID:1681-1657305000-1657317600@caydencemn.com
SUMMARY:Nectarous\, Until Apocalypse\, Two Weeks Past Never
DESCRIPTION:
URL:https://caydencemn.com/event/nectarous-until-apocalypse-two-weeks-past-never/
LOCATION:Caydence Records & Coffee\, 900 Payne Avenue\, St Paul\, MN\, 55130\, United States
CATEGORIES:Performance
ATTACH;FMTTYPE=image/jpeg:https://caydencemn.com/wp-content/uploads/2022/06/FB_IMG_1655502163302.jpg
END:VEVENT
BEGIN:VEVENT
DTSTART;TZID=America/Chicago:20220706T183000
DTEND;TZID=America/Chicago:20220706T230000
DTSTAMP:20260425T205620
CREATED:20220618T184826Z
LAST-MODIFIED:20240617T065523Z
UID:1706-1657132200-1657148400@caydencemn.com
SUMMARY:**CANCELLED** Brooklane - The Losing Hope - Buckaroux Banshees - Cauldwell
DESCRIPTION:Brooklane play Caydence Records St Paul\, MN. Local support from The Losing Hope\, Buckaroux Banshees and Cauldwell. All ages. $10 at the door. Small cap\, get there early! \nChief State – Vancouver\, BC has dropped from this bill\nwww.chiefstate.com \nBrooklane – Fargo\, ND\nwww.brooklanemidwest.com \nThe Losing Hope – Minneapolis\, MN\nwww.facebook.com/TheLosingHopeMN \nBuckaroux Banshees – Minneapolis\, MN\nhttps://www.facebook.com/BuckarouxBanshees/ \nCauldwell – Minneapolis\, MN\nhttps://www.facebook.com/thisiscauldwell
URL:https://caydencemn.com/event/chief-state-brooklane-the-losing-hope-buckaroux-banshees-cauldwell/
LOCATION:Caydence Records & Coffee\, 900 Payne Avenue\, St Paul\, MN\, 55130\, United States
CATEGORIES:Performance
ATTACH;FMTTYPE=image/jpeg:https://caydencemn.com/wp-content/uploads/2022/06/FB_IMG_1655559952594.jpg
END:VEVENT
BEGIN:VEVENT
DTSTART;TZID=America/Chicago:20220702T183000
DTEND;TZID=America/Chicago:20220702T220000
DTSTAMP:20260425T205620
CREATED:20220618T024417Z
LAST-MODIFIED:20240617T065523Z
UID:1684-1656786600-1656799200@caydencemn.com
SUMMARY:Jackie Kean / Paul Cerar / Joan of Profile
DESCRIPTION:
URL:https://caydencemn.com/event/jackie-kean-paul-cerar-joan-of-profile/
LOCATION:Caydence Records & Coffee\, 900 Payne Avenue\, St Paul\, MN\, 55130\, United States
CATEGORIES:Performance
END:VEVENT
BEGIN:VEVENT
DTSTART;TZID=America/Chicago:20220625T133000
DTEND;TZID=America/Chicago:20220625T140000
DTSTAMP:20260425T205620
CREATED:20220618T024044Z
LAST-MODIFIED:20240617T065523Z
UID:1678-1656163800-1656165600@caydencemn.com
SUMMARY:Linus\, Birdhole\, two weeks past never
DESCRIPTION:
URL:https://caydencemn.com/event/linus-birdhole-two-weeks-past-never/
LOCATION:Caydence Records & Coffee\, 900 Payne Avenue\, St Paul\, MN\, 55130\, United States
CATEGORIES:Performance
ATTACH;FMTTYPE=image/jpeg:https://caydencemn.com/wp-content/uploads/2022/06/FB_IMG_1655501983684.jpg
END:VEVENT
BEGIN:VEVENT
DTSTART;TZID=America/Chicago:20220624T190000
DTEND;TZID=America/Chicago:20220624T220000
DTSTAMP:20260425T205620
CREATED:20220618T023906Z
LAST-MODIFIED:20240617T065523Z
UID:1676-1656097200-1656108000@caydencemn.com
SUMMARY:Kids Ski Free\, Breathe & Repeat\, 12th House Sun\, Mystery Meat
DESCRIPTION:
URL:https://caydencemn.com/event/kids-ski-free-breathe-repeat-12th-house-sun-mystery-meat/
LOCATION:Caydence Records & Coffee\, 900 Payne Avenue\, St Paul\, MN\, 55130\, United States
CATEGORIES:Performance
ATTACH;FMTTYPE=image/jpeg:https://caydencemn.com/wp-content/uploads/2022/06/AC386ACE-DE28-4A9B-BC8A-1EC76230C30E.jpeg
END:VEVENT
BEGIN:VEVENT
DTSTART;TZID=America/Chicago:20220618T030000
DTEND;TZID=America/Chicago:20220618T170000
DTSTAMP:20260425T205620
CREATED:20220618T023705Z
LAST-MODIFIED:20240617T065523Z
UID:1673-1655521200-1655571600@caydencemn.com
SUMMARY:Fund-rig-ser w/ RIGBY
DESCRIPTION:
URL:https://caydencemn.com/event/fund-rig-ser-w-rigby/
LOCATION:Caydence Records & Coffee\, 900 Payne Avenue\, St Paul\, MN\, 55130\, United States
CATEGORIES:Performance
ATTACH;FMTTYPE=image/jpeg:https://caydencemn.com/wp-content/uploads/2022/06/FB_IMG_1655501738969.jpg
END:VEVENT
BEGIN:VEVENT
DTSTART;TZID=America/Chicago:20220617T130000
DTEND;TZID=America/Chicago:20220617T170000
DTSTAMP:20260425T205620
CREATED:20220522T014739Z
LAST-MODIFIED:20240617T065523Z
UID:1666-1655470800-1655485200@caydencemn.com
SUMMARY:Rudy White\, fallingwithscissors\, Blue Driver\, Small Animal Hospital
DESCRIPTION:Rudy White\n fallingwithscissors\nBlue Driver\nSmall Animal Hospital
URL:https://caydencemn.com/event/rudy-white-fallingwithscissors-blue-driver-small-animal-hospital/
LOCATION:MN
ATTACH;FMTTYPE=image/jpeg:https://caydencemn.com/wp-content/uploads/2022/05/Smallanimal.jpeg
END:VEVENT
BEGIN:VEVENT
DTSTART;TZID=America/Chicago:20220612T070000
DTEND;TZID=America/Chicago:20220612T090000
DTSTAMP:20260425T205620
CREATED:20220508T194253Z
LAST-MODIFIED:20240617T065523Z
UID:1617-1655017200-1655024400@caydencemn.com
SUMMARY:Wide Eye Stare
DESCRIPTION:Wide Eye Stare is a three piece hard rock band from the suburbs of Minneapolis. Please come join them at Caydence Records as they perform songs off their debut album “Put the Party Out”\, as well as new songs to be released.
URL:https://caydencemn.com/event/wide-eye-stare/
LOCATION:Caydence Records & Coffee\, 900 Payne Avenue\, St Paul\, MN\, 55130\, United States
ATTACH;FMTTYPE=image/jpeg:https://caydencemn.com/wp-content/uploads/2022/05/wildeye.jpg
END:VEVENT
BEGIN:VEVENT
DTSTART;TZID=America/Chicago:20220610T130000
DTEND;TZID=America/Chicago:20220610T170000
DTSTAMP:20260425T205620
CREATED:20220522T014510Z
LAST-MODIFIED:20240617T065523Z
UID:1663-1654866000-1654880400@caydencemn.com
SUMMARY:Begravement\, Pursuit\, Idle Death\, Strappado
DESCRIPTION:All Ages!\nFriday June 10th\nDoors: 6:00 PM\nMusic: 6:30 PM\n$10\nBring a friend!\nBegravement\nhttps://begravement.bandcamp.com/\nPursuit\nhttps://pursuit-thrash-fargo.bandcamp.com/\nIdle Death\nhttps://idledeath.bandcamp.com/releases\nStrappado\nhttps://strappado1.bandcamp.com/releases
URL:https://caydencemn.com/event/begravement-pursuit-idle-death-strappado/
LOCATION:Caydence Records & Coffee\, 900 Payne Avenue\, St Paul\, MN\, 55130\, United States
ATTACH;FMTTYPE=image/jpeg:https://caydencemn.com/wp-content/uploads/2022/05/pursuit.jpg
END:VEVENT
BEGIN:VEVENT
DTSTART;TZID=America/Chicago:20220605T070000
DTEND;TZID=America/Chicago:20220605T080000
DTSTAMP:20260425T205620
CREATED:20220522T014237Z
LAST-MODIFIED:20240617T065523Z
UID:1661-1654412400-1654416000@caydencemn.com
SUMMARY:Joe Twohy Patio
DESCRIPTION:Joe Twohy on the Patio @ Noon!
URL:https://caydencemn.com/event/joe-twohy-patio/
LOCATION:Caydence Records & Coffee\, 900 Payne Avenue\, St Paul\, MN\, 55130\, United States
END:VEVENT
BEGIN:VEVENT
DTSTART;TZID=America/Chicago:20220604T133000
DTEND;TZID=America/Chicago:20220604T170000
DTSTAMP:20260425T205620
CREATED:20220522T014139Z
LAST-MODIFIED:20240617T065523Z
UID:1658-1654349400-1654362000@caydencemn.com
SUMMARY:Aboncy\, Casual\, With Iowa In Between\, Oftener
DESCRIPTION:Our next show is a rad one with our friends in @abandoncykc from missouri\, @casualmpls\, and @ormoreoften! come hang with us at @caydencemn June 4th!
URL:https://caydencemn.com/event/aboncy-casual-with-iowa-in-between-oftener/
LOCATION:Caydence Records & Coffee\, 900 Payne Avenue\, St Paul\, MN\, 55130\, United States
ATTACH;FMTTYPE=image/jpeg:https://caydencemn.com/wp-content/uploads/2022/05/withIowa.jpg
END:VEVENT
BEGIN:VEVENT
DTSTART;TZID=America/Chicago:20220604T070000
DTEND;TZID=America/Chicago:20220604T080000
DTSTAMP:20260425T205620
CREATED:20220522T014000Z
LAST-MODIFIED:20240617T065535Z
UID:1656-1654326000-1654329600@caydencemn.com
SUMMARY:Anni XO Patio Performance
DESCRIPTION:Free Patio Show\nAnni XO \n12p
URL:https://caydencemn.com/event/anni-xo-patio-performance/
LOCATION:Caydence Records & Coffee\, 900 Payne Avenue\, St Paul\, MN\, 55130\, United States
END:VEVENT
BEGIN:VEVENT
DTSTART;TZID=America/Chicago:20220603T130000
DTEND;TZID=America/Chicago:20220603T170000
DTSTAMP:20260425T205620
CREATED:20220508T194129Z
LAST-MODIFIED:20240617T065535Z
UID:1614-1654261200-1654275600@caydencemn.com
SUMMARY:The Kingdom Pt 2
DESCRIPTION:It’s been a long time since we’ve been back at Caydence Records and Coffee but we’re back now! It’s The Return of the Kingdom!\n7-10\n$10 Cover\nPerformances by\nIce Kings\nM.A.Y.\nRon Onill\nCrypt Fiends\nLevi West
URL:https://caydencemn.com/event/the-kingdom-pt-2/
LOCATION:Caydence Records & Coffee\, 900 Payne Avenue\, St Paul\, MN\, 55130\, United States
ATTACH;FMTTYPE=image/jpeg:https://caydencemn.com/wp-content/uploads/2022/05/icekings.jpg
END:VEVENT
BEGIN:VEVENT
DTSTART;TZID=America/Chicago:20220528T130000
DTEND;TZID=America/Chicago:20220528T170000
DTSTAMP:20260425T205620
CREATED:20220513T074600Z
LAST-MODIFIED:20240617T065535Z
UID:1649-1653742800-1653757200@caydencemn.com
SUMMARY:Pöng Flower - Virginias Basement - Fine Dials
DESCRIPTION:We are excited to be back @caydencemn MAY 28TH \nwe got the @fine.dials2020\nand we back with the homies @virginiasbasement\nso we best see some friendly faces for them!
URL:https://caydencemn.com/event/pong-flower-virginias-basement-fine-dials/
LOCATION:Caydence Records & Coffee\, 900 Payne Avenue\, St Paul\, MN\, 55130\, United States
CATEGORIES:Performance
ATTACH;FMTTYPE=image/png:https://caydencemn.com/wp-content/uploads/2022/05/pong.png
END:VEVENT
BEGIN:VEVENT
DTSTART;TZID=America/Chicago:20220527T130000
DTEND;TZID=America/Chicago:20220527T170000
DTSTAMP:20260425T205620
CREATED:20220522T013613Z
LAST-MODIFIED:20240617T065535Z
UID:1653-1653656400-1653670800@caydencemn.com
SUMMARY:DJ Sophia Eris -- Sully\, Dungeon the Baptist\, Big Smoke\, Spin the Artist\, L.Brezzy\, Fin Raps
DESCRIPTION:Stacked HIP-HOP Bill \nDJ Sophia Eris\nSully\nDungeon the Baptist\nBig Smoke\nSpin the Artist\nL.Brezzy\nFin Raps
URL:https://caydencemn.com/event/dj-sophia-eris-sully-dungeon-the-baptist-big-smoke-spin-the-artist-l-brezzy-fin-raps/
LOCATION:Caydence Records & Coffee\, 900 Payne Avenue\, St Paul\, MN\, 55130\, United States
ATTACH;FMTTYPE=image/jpeg:https://caydencemn.com/wp-content/uploads/2022/05/jsully.jpg
END:VEVENT
BEGIN:VEVENT
DTSTART;TZID=America/Chicago:20220525T130000
DTEND;TZID=America/Chicago:20220525T170000
DTSTAMP:20260425T205620
CREATED:20220508T193658Z
LAST-MODIFIED:20240617T065535Z
UID:1611-1653483600-1653498000@caydencemn.com
SUMMARY:Defect - Rig Time! - Klazomanic - Sounding Rod
DESCRIPTION:Defect –  Rapid City Hardcore\nRig Time! – Wisconsin Heavy\nKlazomanic – Minnesota Hardcore\nSounding Rod – First Show\, MPLS crossover \n$10\n6:30p Doors
URL:https://caydencemn.com/event/defect-rig-time-klazomanic-sounding-rod/
LOCATION:Caydence Records & Coffee\, 900 Payne Avenue\, St Paul\, MN\, 55130\, United States
ATTACH;FMTTYPE=image/png:https://caydencemn.com/wp-content/uploads/2022/05/CAYDENCE-FLIER.png
END:VEVENT
BEGIN:VEVENT
DTSTART;TZID=America/Chicago:20220522T130000
DTEND;TZID=America/Chicago:20220522T170000
DTSTAMP:20260425T205620
CREATED:20220508T192428Z
LAST-MODIFIED:20240617T065535Z
UID:1608-1653224400-1653238800@caydencemn.com
SUMMARY:Anita Velveeta - Mr Submissive - Suspect From Outer Space - TBA
DESCRIPTION:Anita Velveeta\nMr Submissive\nSuspect From Outer Space\nTBA \n6:30\n$10
URL:https://caydencemn.com/event/anita-velveeta-mr-submissive-suspect-from-outer-space-tba/
LOCATION:Caydence Records & Coffee\, 900 Payne Avenue\, St Paul\, MN\, 55130\, United States
CATEGORIES:Performance
ATTACH;FMTTYPE=image/jpeg:https://caydencemn.com/wp-content/uploads/2022/05/Submissive-scaled.jpg
END:VEVENT
BEGIN:VEVENT
DTSTART;TZID=America/Chicago:20220509T130000
DTEND;TZID=America/Chicago:20220509T170000
DTSTAMP:20260425T205620
CREATED:20220508T191757Z
LAST-MODIFIED:20240617T065535Z
UID:1605-1652101200-1652115600@caydencemn.com
SUMMARY:Lightworker and Spirit Breaker - The Light Breaker Tour
DESCRIPTION:Lightworker – San Francisco\, CA metal\nSpirit Breaker – Southeast MI progressive metalcore\nIntrinsic -Twin Cities progressive metal\nAgony Reigns – Minnesota modern metalcore\nPerth – future metal legends\nMONDAY\, May 9\n6:30 pm\n$12
URL:https://caydencemn.com/event/lightworker-and-spirit-breaker-the-light-breaker-tour/
LOCATION:Caydence Records & Coffee\, 900 Payne Avenue\, St Paul\, MN\, 55130\, United States
ATTACH;FMTTYPE=image/jpeg:https://caydencemn.com/wp-content/uploads/2022/05/lightworker.jpg
END:VEVENT
BEGIN:VEVENT
DTSTART;TZID=America/Chicago:20220409T133000
DTEND;TZID=America/Chicago:20220409T170000
DTSTAMP:20260425T205620
CREATED:20220404T184459Z
LAST-MODIFIED:20240617T065535Z
UID:1579-1649511000-1649523600@caydencemn.com
SUMMARY:easeupkid\, Aiden intro\, Civil Decline
DESCRIPTION:easeupkid\nAiden intro\nCivil Decline \nDoors @ 6:30p – Music 7p-10p\n$10
URL:https://caydencemn.com/event/easeupkid-aiden-intro-civil-decline/
LOCATION:Caydence Records & Coffee\, 900 Payne Avenue\, St Paul\, MN\, 55130\, United States
END:VEVENT
BEGIN:VEVENT
DTSTART;TZID=America/Chicago:20201101T060000
DTEND;TZID=America/Chicago:20201101T090000
DTSTAMP:20260425T205620
CREATED:20201007T075620Z
LAST-MODIFIED:20240617T065535Z
UID:1332-1604210400-1604221200@caydencemn.com
SUMMARY:The Bad Companions - Rockabilly Patio Performace
DESCRIPTION:Back again are The Bad Companions – Rockabilly Patio Performace \nWeather pending
URL:https://caydencemn.com/event/the-bad-companions-rockabilly-patio-performace/
LOCATION:Caydence Records & Coffee\, 900 Payne Avenue\, St Paul\, MN\, 55130\, United States
END:VEVENT
BEGIN:VEVENT
DTSTART;TZID=America/Chicago:20201031T070000
DTEND;TZID=America/Chicago:20201031T080000
DTSTAMP:20260425T205620
CREATED:20201007T075525Z
LAST-MODIFIED:20240617T065535Z
UID:1330-1604127600-1604131200@caydencemn.com
SUMMARY:Natalie Fideler In Store
DESCRIPTION:Natalie Fideler In Store
URL:https://caydencemn.com/event/natalie-fideler-in-store/
LOCATION:Caydence Records & Coffee\, 900 Payne Avenue\, St Paul\, MN\, 55130\, United States
END:VEVENT
BEGIN:VEVENT
DTSTART;TZID=America/Chicago:20201024T040000
DTEND;TZID=America/Chicago:20201024T080000
DTSTAMP:20260425T205620
CREATED:20201007T075430Z
LAST-MODIFIED:20240617T065535Z
UID:1328-1603512000-1603526400@caydencemn.com
SUMMARY:Erik Ritland\, A Scientific Search CD Release Show
DESCRIPTION:Erik Ritland\, A Scientific Search CD Release Show featuring Erik Brandt of the Urban Hillbilly Quartet
URL:https://caydencemn.com/event/erik-ritland-a-scientific-search-cd-release-show/
LOCATION:Caydence Records & Coffee\, 900 Payne Avenue\, St Paul\, MN\, 55130\, United States
END:VEVENT
BEGIN:VEVENT
DTSTART;VALUE=DATE:20201023
DTEND;VALUE=DATE:20201025
DTSTAMP:20260425T205620
CREATED:20201007T075248Z
LAST-MODIFIED:20240617T065535Z
UID:1325-1603479600-1603565999@caydencemn.com
SUMMARY:Record Store Day 3 of 3
DESCRIPTION:Record Store Day 3 of 3
URL:https://caydencemn.com/event/record-store-day-3-of-3/
LOCATION:Caydence Records & Coffee\, 900 Payne Avenue\, St Paul\, MN\, 55130\, United States
ATTACH;FMTTYPE=image/jpeg:https://caydencemn.com/wp-content/uploads/2020/10/RSD.jpg
END:VEVENT
BEGIN:VEVENT
DTSTART;TZID=America/Chicago:20201023T070000
DTEND;TZID=America/Chicago:20201023T080000
DTSTAMP:20260425T205620
CREATED:20201007T075155Z
LAST-MODIFIED:20240617T065535Z
UID:1323-1603436400-1603440000@caydencemn.com
SUMMARY:Erik Ritland Patio Performance
DESCRIPTION:Erik Ritland Patio Performance
URL:https://caydencemn.com/event/erik-ritland-patio-performance/
LOCATION:Caydence Records & Coffee\, 900 Payne Avenue\, St Paul\, MN\, 55130\, United States
END:VEVENT
BEGIN:VEVENT
DTSTART;TZID=America/Chicago:20201018T050000
DTEND;TZID=America/Chicago:20201018T060000
DTSTAMP:20260425T205620
CREATED:20201007T075039Z
LAST-MODIFIED:20240617T065535Z
UID:1321-1602997200-1603000800@caydencemn.com
SUMMARY:Kennedy and Bryan Patio Performance
DESCRIPTION:Kennedy and Bryan Patio Performance
URL:https://caydencemn.com/event/kennedy-and-bryan-patio-performance-2/
LOCATION:Caydence Records & Coffee\, 900 Payne Avenue\, St Paul\, MN\, 55130\, United States
END:VEVENT
BEGIN:VEVENT
DTSTART;TZID=America/Chicago:20201011T050000
DTEND;TZID=America/Chicago:20201011T060000
DTSTAMP:20260425T205620
CREATED:20201007T075012Z
LAST-MODIFIED:20240617T065535Z
UID:1318-1602392400-1602396000@caydencemn.com
SUMMARY:Kennedy and Bryan Patio Performance
DESCRIPTION:Kennedy and Bryan Patio Performance
URL:https://caydencemn.com/event/kennedy-and-bryan-patio-performance/
LOCATION:Caydence Records & Coffee\, 900 Payne Avenue\, St Paul\, MN\, 55130\, United States
END:VEVENT
BEGIN:VEVENT
DTSTART;TZID=America/Chicago:20201011T040000
DTEND;TZID=America/Chicago:20201011T080000
DTSTAMP:20260425T205620
CREATED:20201007T074932Z
LAST-MODIFIED:20240617T065535Z
UID:1315-1602388800-1602403200@caydencemn.com
SUMMARY:Jeff Reck Book Signing
DESCRIPTION:Join Jeff Reck for a signing and meet and great in celebration of his first published work – Mission to Kill.\nAvailable in store and amazon\nhttps://www.amazon.com/Mission-Kill…/dp/1673767435/\n 
URL:https://caydencemn.com/event/jeff-reck-book-signing/
LOCATION:Caydence Records & Coffee\, 900 Payne Avenue\, St Paul\, MN\, 55130\, United States
ATTACH;FMTTYPE=image/jpeg:https://caydencemn.com/wp-content/uploads/2020/10/120235422_1868878993249903_6789563146927936380_o.jpg
END:VEVENT
BEGIN:VEVENT
DTSTART;TZID=America/Chicago:20201010T070000
DTEND;TZID=America/Chicago:20201010T080000
DTSTAMP:20260425T205620
CREATED:20201007T074812Z
LAST-MODIFIED:20240617T065535Z
UID:1312-1602313200-1602316800@caydencemn.com
SUMMARY:Nathan Salchow Patio Performance
DESCRIPTION:Nathan Salchow Patio Performance
URL:https://caydencemn.com/event/nathan-salchow-patio-performance/
LOCATION:Caydence Records & Coffee\, 900 Payne Avenue\, St Paul\, MN\, 55130\, United States
CATEGORIES:Performance
ATTACH;FMTTYPE=image/png:https://caydencemn.com/wp-content/uploads/2020/10/1010.png
END:VEVENT
END:VCALENDAR